BEGIN:VCALENDAR
VERSION:2.0
PRODID:-//Tukios.com/
BEGIN:VEVENT
UID:6c1ea180-e3a4-48ed-9df9-13edf73c3fa7@www.riddickfuneralservices.com
DTSTAMP:20260420T181120Z
DTSTART:20260420T190000Z
DTEND:20260420T210000Z
SUMMARY:Memorial Service
DESCRIPTION:
URL:https://www.riddickfuneralservices.com/obituaries/kay-kindred
LOCATION:Thomas and Mack Moot Court Building at The University of Nevada, 
	Las Vegas 4505 S Maryland Pkwy  Las Vegas NV 89154
GEO:36.1060472;-115.1389341
END:VEVENT
END:VCALENDAR