BEGIN:VCALENDAR
VERSION:2.0
PRODID:-//Tukios.com/
BEGIN:VEVENT
UID:77e6fd5b-f718-4ac8-8a23-1fae94f4cb61@www.riddickfuneralservices.com
DTSTAMP:20260421T052940Z
DTSTART:20260422T130000Z
DTEND:20260422T200000Z
SUMMARY:Visitation
DESCRIPTION:
URL:https://www.riddickfuneralservices.com/obituaries/jackson-bennett
LOCATION: 1225 Norview Ave  Norfolk VA 23513
GEO:36.889942;-76.2367819
END:VEVENT
END:VCALENDAR