BEGIN:VCALENDAR
VERSION:2.0
PRODID:-//Tukios.com/
BEGIN:VEVENT
UID:9008730b-5b28-404f-917f-ca4338ae7723@www.riddickfuneralservices.com
DTSTAMP:20260421T054626Z
DTSTART:20260423T170000Z
DTEND:20260423T180000Z
SUMMARY:Burial
DESCRIPTION:
URL:https://www.riddickfuneralservices.com/obituaries/benny-bennett
LOCATION: 5310 Milners Road  Suffolk VA 23434
GEO:36.824642;-76.637983
END:VEVENT
END:VCALENDAR