BEGIN:VCALENDAR
VERSION:2.0
PRODID:-//Tukios.com/
BEGIN:VEVENT
UID:738d5096-f9e6-4b67-af55-acf45bfb9e5b@www.riddickfuneralservices.com
DTSTAMP:20260421T054342Z
DTSTART:20260423T150000Z
DTEND:20260423T160000Z
SUMMARY:Funeral Service
DESCRIPTION:
URL:https://www.riddickfuneralservices.com/obituaries/benny-bennett
LOCATION: 1225 Norview Ave  Norfolk VA 23513
GEO:36.889942;-76.2367819
END:VEVENT
END:VCALENDAR